BEGIN:VCALENDAR
VERSION:2.0
PRODID:-//Elverum golfklubb - ECPv6.15.20//NONSGML v1.0//EN
CALSCALE:GREGORIAN
METHOD:PUBLISH
X-WR-CALNAME:Elverum golfklubb
X-ORIGINAL-URL:https://elverumgolf.no
X-WR-CALDESC:Arrangement for Elverum golfklubb
REFRESH-INTERVAL;VALUE=DURATION:PT1H
X-Robots-Tag:noindex
X-PUBLISHED-TTL:PT1H
BEGIN:VTIMEZONE
TZID:Europe/Oslo
BEGIN:DAYLIGHT
TZOFFSETFROM:+0100
TZOFFSETTO:+0200
TZNAME:CEST
DTSTART:20260329T010000
END:DAYLIGHT
BEGIN:STANDARD
TZOFFSETFROM:+0200
TZOFFSETTO:+0100
TZNAME:CET
DTSTART:20261025T010000
END:STANDARD
BEGIN:DAYLIGHT
TZOFFSETFROM:+0100
TZOFFSETTO:+0200
TZNAME:CEST
DTSTART:20270328T010000
END:DAYLIGHT
BEGIN:STANDARD
TZOFFSETFROM:+0200
TZOFFSETTO:+0100
TZNAME:CET
DTSTART:20271031T010000
END:STANDARD
BEGIN:DAYLIGHT
TZOFFSETFROM:+0100
TZOFFSETTO:+0200
TZNAME:CEST
DTSTART:20280326T010000
END:DAYLIGHT
BEGIN:STANDARD
TZOFFSETFROM:+0200
TZOFFSETTO:+0100
TZNAME:CET
DTSTART:20281029T010000
END:STANDARD
END:VTIMEZONE
BEGIN:VEVENT
DTSTART;VALUE=DATE:20270508
DTEND;VALUE=DATE:20270509
DTSTAMP:20260421T201453
CREATED:20260410T082339Z
LAST-MODIFIED:20260410T082339Z
UID:2139-1809734400-1809820799@elverumgolf.no
SUMMARY:Konfirmasjon
DESCRIPTION:Cecilie Hansen <cecilie.hansen92@icloud.com>
URL:https://elverumgolf.no/event/konfirmasjon-13/
LOCATION:Starmoen\, Starmoveien 83\, Elverum\, 2414\, Norge
ORGANIZER;CN="Elverum Golfklubb":MAILTO:post@elverumgolf.no
END:VEVENT
BEGIN:VEVENT
DTSTART;VALUE=DATE:20270529
DTEND;VALUE=DATE:20270530
DTSTAMP:20260421T201453
CREATED:20250430T103810Z
LAST-MODIFIED:20250430T103810Z
UID:1848-1811548800-1811635199@elverumgolf.no
SUMMARY:Konfirmasjon
DESCRIPTION:Kenneth Strand
URL:https://elverumgolf.no/event/konfirmasjon-8/
LOCATION:Starmoen\, Starmoveien 83\, Elverum\, 2414\, Norge
ORGANIZER;CN="Elverum Golfklubb":MAILTO:post@elverumgolf.no
END:VEVENT
END:VCALENDAR