BEGIN:VCALENDAR
VERSION:2.0
PRODID:-//Elverum golfklubb - ECPv6.15.20//NONSGML v1.0//EN
CALSCALE:GREGORIAN
METHOD:PUBLISH
X-WR-CALNAME:Elverum golfklubb
X-ORIGINAL-URL:https://elverumgolf.no
X-WR-CALDESC:Arrangement for Elverum golfklubb
REFRESH-INTERVAL;VALUE=DURATION:PT1H
X-Robots-Tag:noindex
X-PUBLISHED-TTL:PT1H
BEGIN:VTIMEZONE
TZID:Europe/Oslo
BEGIN:DAYLIGHT
TZOFFSETFROM:+0100
TZOFFSETTO:+0200
TZNAME:CEST
DTSTART:20230326T010000
END:DAYLIGHT
BEGIN:STANDARD
TZOFFSETFROM:+0200
TZOFFSETTO:+0100
TZNAME:CET
DTSTART:20231029T010000
END:STANDARD
BEGIN:DAYLIGHT
TZOFFSETFROM:+0100
TZOFFSETTO:+0200
TZNAME:CEST
DTSTART:20240331T010000
END:DAYLIGHT
BEGIN:STANDARD
TZOFFSETFROM:+0200
TZOFFSETTO:+0100
TZNAME:CET
DTSTART:20241027T010000
END:STANDARD
BEGIN:DAYLIGHT
TZOFFSETFROM:+0100
TZOFFSETTO:+0200
TZNAME:CEST
DTSTART:20250330T010000
END:DAYLIGHT
BEGIN:STANDARD
TZOFFSETFROM:+0200
TZOFFSETTO:+0100
TZNAME:CET
DTSTART:20251026T010000
END:STANDARD
END:VTIMEZONE
BEGIN:VEVENT
DTSTART;TZID=Europe/Oslo:20240907T090000
DTEND;TZID=Europe/Oslo:20240908T140000
DTSTAMP:20260421T110735
CREATED:20240809T083057Z
LAST-MODIFIED:20240809T083057Z
UID:1611-1725699600-1725804000@elverumgolf.no
SUMMARY:Veien til Golf siste kurs for året
DESCRIPTION:Påmelding til Elverum golf på 62413588 eller post@elverumgolf.no
URL:https://elverumgolf.no/event/veien-til-golf-siste-kurs-for-aret/
LOCATION:Elverum Golfklubb
ORGANIZER;CN="Elverum Golfklubb":MAILTO:post@elverumgolf.no
END:VEVENT
BEGIN:VEVENT
DTSTART;VALUE=DATE:20240908
DTEND;VALUE=DATE:20240909
DTSTAMP:20260421T110735
CREATED:20240809T083522Z
LAST-MODIFIED:20240809T083522Z
UID:1613-1725753600-1725839999@elverumgolf.no
SUMMARY:Ung Start/Impact supporter arrangement
DESCRIPTION:
URL:https://elverumgolf.no/event/ung-start-impact-supporter-arrangement/
LOCATION:Elverum Golfklubb
ORGANIZER;CN="Elverum Golfklubb":MAILTO:post@elverumgolf.no
END:VEVENT
BEGIN:VEVENT
DTSTART;TZID=Europe/Oslo:20240917T080000
DTEND;TZID=Europe/Oslo:20240918T170000
DTSTAMP:20260421T110735
CREATED:20240326T125457Z
LAST-MODIFIED:20240326T125457Z
UID:1273-1726560000-1726678800@elverumgolf.no
SUMMARY:Trener 1 utdanning
DESCRIPTION:2 etg. i bruk
URL:https://elverumgolf.no/event/trener-1-utdanning-2/
LOCATION:Elverum Golfklubb
ORGANIZER;CN="Elverum Golfklubb":MAILTO:post@elverumgolf.no
END:VEVENT
BEGIN:VEVENT
DTSTART;TZID=Europe/Oslo:20240920T080000
DTEND;TZID=Europe/Oslo:20240922T170000
DTSTAMP:20260421T110735
CREATED:20240326T125310Z
LAST-MODIFIED:20240326T125310Z
UID:1269-1726819200-1727024400@elverumgolf.no
SUMMARY:Trener 2 utdanning
DESCRIPTION:2 etg i bruk
URL:https://elverumgolf.no/event/trener-2-utdanning-3/
LOCATION:Elverum Golfklubb
ORGANIZER;CN="Elverum Golfklubb":MAILTO:post@elverumgolf.no
END:VEVENT
BEGIN:VEVENT
DTSTART;TZID=Europe/Oslo:20240921T100000
DTEND;TZID=Europe/Oslo:20240921T170000
DTSTAMP:20260421T110735
CREATED:20240906T184559Z
LAST-MODIFIED:20240906T184742Z
UID:1669-1726912800-1726938000@elverumgolf.no
SUMMARY:Trippelparet
DESCRIPTION:2-manns scramble turnering med 3 ulike spilleformer fordelt på 3 x 6 hull. \nIntervallstart fra kl. 10.00 \nMeld deg på her
URL:https://elverumgolf.no/event/trippelparet/
LOCATION:Elverum Golfklubb
END:VEVENT
BEGIN:VEVENT
DTSTART;TZID=Europe/Oslo:20240924T190000
DTEND;TZID=Europe/Oslo:20240924T203000
DTSTAMP:20260421T110735
CREATED:20240906T185052Z
LAST-MODIFIED:20240906T185149Z
UID:1671-1727204400-1727209800@elverumgolf.no
SUMMARY:Møte i turneringsgruppa
DESCRIPTION:Oppsummering av sesongen så langt og planlegging av de siste turnerningene for året.
URL:https://elverumgolf.no/event/mote-i-turneringsgruppa/
LOCATION:Elverum Golfklubb
END:VEVENT
BEGIN:VEVENT
DTSTART;TZID=Europe/Oslo:20240930T170000
DTEND;TZID=Europe/Oslo:20240930T193000
DTSTAMP:20260421T110735
CREATED:20240702T182239Z
LAST-MODIFIED:20240901T084347Z
UID:1517-1727715600-1727724600@elverumgolf.no
SUMMARY:Styremøte 09
DESCRIPTION:
URL:https://elverumgolf.no/event/styremote-08/
LOCATION:Østli\, Torolf Storsveens veg 12\, Elverum
END:VEVENT
END:VCALENDAR