BEGIN:VCALENDAR
VERSION:2.0
PRODID:-//Elverum golfklubb - ECPv6.15.20//NONSGML v1.0//EN
CALSCALE:GREGORIAN
METHOD:PUBLISH
X-WR-CALNAME:Elverum golfklubb
X-ORIGINAL-URL:https://elverumgolf.no
X-WR-CALDESC:Arrangement for Elverum golfklubb
REFRESH-INTERVAL;VALUE=DURATION:PT1H
X-Robots-Tag:noindex
X-PUBLISHED-TTL:PT1H
BEGIN:VTIMEZONE
TZID:Europe/Oslo
BEGIN:DAYLIGHT
TZOFFSETFROM:+0100
TZOFFSETTO:+0200
TZNAME:CEST
DTSTART:20230326T010000
END:DAYLIGHT
BEGIN:STANDARD
TZOFFSETFROM:+0200
TZOFFSETTO:+0100
TZNAME:CET
DTSTART:20231029T010000
END:STANDARD
BEGIN:DAYLIGHT
TZOFFSETFROM:+0100
TZOFFSETTO:+0200
TZNAME:CEST
DTSTART:20240331T010000
END:DAYLIGHT
BEGIN:STANDARD
TZOFFSETFROM:+0200
TZOFFSETTO:+0100
TZNAME:CET
DTSTART:20241027T010000
END:STANDARD
BEGIN:DAYLIGHT
TZOFFSETFROM:+0100
TZOFFSETTO:+0200
TZNAME:CEST
DTSTART:20250330T010000
END:DAYLIGHT
BEGIN:STANDARD
TZOFFSETFROM:+0200
TZOFFSETTO:+0100
TZNAME:CET
DTSTART:20251026T010000
END:STANDARD
END:VTIMEZONE
BEGIN:VEVENT
DTSTART;TZID=Europe/Oslo:20240806T133000
DTEND;TZID=Europe/Oslo:20240806T153000
DTSTAMP:20260421T122828
CREATED:20240624T143827Z
LAST-MODIFIED:20240624T143843Z
UID:1499-1722951000-1722958200@elverumgolf.no
SUMMARY:Ferieklubben.
DESCRIPTION:Ferieklubben ønsker da å besøke Elverum Golfklubb tirsdag 6. august fra kl 13:30
URL:https://elverumgolf.no/event/ferieklubben/
LOCATION:Elverum Golfklubb
END:VEVENT
BEGIN:VEVENT
DTSTART;TZID=Europe/Oslo:20240806T160000
DTEND;TZID=Europe/Oslo:20240806T203000
DTSTAMP:20260421T122828
CREATED:20240707T194636Z
LAST-MODIFIED:20240707T194636Z
UID:1548-1722960000-1722976200@elverumgolf.no
SUMMARY:Kvalifisering til lag-NM senior damer og herrer
DESCRIPTION:Kvalifisering til lag-NM senior damer og herrer \nPåmelding her
URL:https://elverumgolf.no/event/kvalifisering-til-lag-nm-senior-damer-og-herrer/
LOCATION:Elverum Golfklubb
ORGANIZER;CN="Elverum Golfklubb":MAILTO:post@elverumgolf.no
END:VEVENT
BEGIN:VEVENT
DTSTART;TZID=Europe/Oslo:20240810T100000
DTEND;TZID=Europe/Oslo:20240810T170000
DTSTAMP:20260421T122828
CREATED:20240725T113142Z
LAST-MODIFIED:20240725T113157Z
UID:1591-1723284000-1723309200@elverumgolf.no
SUMMARY:Coca Cola Open
DESCRIPTION:Coca Cola Open\n• Start 10. august: Kl 10:00 intervall start\n• Turneringsavgift:300 kr\n• Greenfee for gjestespillere: 400kr \nTurneringen (spilleform og annen relevant informasjon): \nMaks 72 deltagere. \nintervallstart kl. 10.00\,  Servering av burger og pølser etter runden \nPåmelding her: \n  \nLavterskelturnering\, hvor ALLE er velkomne. \n5 klasser: A:<-9\,9\, B:10-19\,9\, C:20-29\,9\, D:30-39\,9\, E:40-54 \nTeested: Valgfritt for hver spiller.\n​Spilleform: Stableford \nPremiering av 25% i hver klasse+noen premier som trekkes på scorekort. Må være tilstede for å få premie. \nClosest to pin på alle par 3 hull (1 klasse) \nLongest drive på hull 10 (2 klasser) utslagssted 58 for herrer og 50 for damer! \nClosest to pin på 2 slag på hull 16 (2 klasser) \nHilsen\nCoca Cola 
URL:https://elverumgolf.no/event/coca-cola-open/
END:VEVENT
BEGIN:VEVENT
DTSTART;TZID=Europe/Oslo:20240817T090000
DTEND;TZID=Europe/Oslo:20240817T170000
DTSTAMP:20260421T122828
CREATED:20240707T195004Z
LAST-MODIFIED:20240707T195004Z
UID:1550-1723885200-1723914000@elverumgolf.no
SUMMARY:Golfamore Trophy på Elverum GK
DESCRIPTION:Årets morsomste parturnering\, Golfamore Trohpy på Elverum GK \nMeld deg på her
URL:https://elverumgolf.no/event/golfamore-trophy-pa-elverum-gk/
LOCATION:Elverum Golfklubb
END:VEVENT
BEGIN:VEVENT
DTSTART;TZID=Europe/Oslo:20240820T170000
DTEND;TZID=Europe/Oslo:20240820T170000
DTSTAMP:20260421T122828
CREATED:20240422T144327Z
LAST-MODIFIED:20240422T144327Z
UID:1315-1724173200-1724173200@elverumgolf.no
SUMMARY:Dame scramble
DESCRIPTION:Scramble turnering med premieutdeling og kaffe etter scramble på terrassen 🙂 \nTomannslag\, stableford. \nHar du ikke lag\, setter vi deg sammen med en annen  spiller.
URL:https://elverumgolf.no/event/dame-scramble-3/
END:VEVENT
BEGIN:VEVENT
DTSTART;TZID=Europe/Oslo:20240820T170000
DTEND;TZID=Europe/Oslo:20240820T210000
DTSTAMP:20260421T122828
CREATED:20240707T200150Z
LAST-MODIFIED:20240707T200150Z
UID:1560-1724173200-1724187600@elverumgolf.no
SUMMARY:Dame Scramble
DESCRIPTION:9 hulls dame Scramble \nMeld på her
URL:https://elverumgolf.no/event/dame-scramble-2/
LOCATION:Elverum Golfklubb
ORGANIZER;CN="Damegruppa":MAILTO:damer.elverumgolf@gmail.com
END:VEVENT
BEGIN:VEVENT
DTSTART;TZID=Europe/Oslo:20240823T160000
DTEND;TZID=Europe/Oslo:20240823T180000
DTSTAMP:20260421T122828
CREATED:20240702T180843Z
LAST-MODIFIED:20240812T131607Z
UID:1515-1724428800-1724436000@elverumgolf.no
SUMMARY:Styremøte 07
DESCRIPTION: 
URL:https://elverumgolf.no/event/styremote-07/
LOCATION:Østli\, Torolf Storsveens veg 12\, Elverum
END:VEVENT
BEGIN:VEVENT
DTSTART;TZID=Europe/Oslo:20240823T163000
DTEND;TZID=Europe/Oslo:20240823T233000
DTSTAMP:20260421T122828
CREATED:20240806T113645Z
LAST-MODIFIED:20240806T113645Z
UID:1607-1724430600-1724455800@elverumgolf.no
SUMMARY:Sparebank 1 sommerfest m Skillgames
DESCRIPTION:
URL:https://elverumgolf.no/event/sparebank-1-sommerfest-m-skillgames/
LOCATION:Elverum Golfklubb
ORGANIZER;CN="Elverum Golfklubb":MAILTO:post@elverumgolf.no
END:VEVENT
BEGIN:VEVENT
DTSTART;VALUE=DATE:20240824
DTEND;VALUE=DATE:20240826
DTSTAMP:20260421T122828
CREATED:20240707T195342Z
LAST-MODIFIED:20240707T195342Z
UID:1553-1724457600-1724630399@elverumgolf.no
SUMMARY:KM Jr jenter/gutter\, Damer/Herrer\, sr Damer/Herrer\, sr Dam/Her + 70 2024
DESCRIPTION:KM Jr jenter/gutter\, Damer/Herrer\, sr Damer/Herrer\, sr Dam/Her + 70 2024 \nPåmelding alle klasser her
URL:https://elverumgolf.no/event/km-jr-jenter-gutter-damer-herrer-sr-damer-herrer-sr-dam-her-70-2024/
LOCATION:Elverum Golfklubb
ORGANIZER;CN="Elverum Golfklubb":MAILTO:post@elverumgolf.no
END:VEVENT
BEGIN:VEVENT
DTSTART;VALUE=DATE:20240824
DTEND;VALUE=DATE:20240826
DTSTAMP:20260421T122828
CREATED:20240707T195546Z
LAST-MODIFIED:20240707T195546Z
UID:1555-1724457600-1724630399@elverumgolf.no
SUMMARY:Stableford mesterskap 2024
DESCRIPTION:Stableford mesterskap 2024 \nDette er et Stableford mesterskap for de som ikke ønsker å spille slagspill (KM). Spillere som deltar på KM kan ikke delta i denne klassen. \nPåmelding her
URL:https://elverumgolf.no/event/stableford-mesterskap-2024/
LOCATION:Elverum Golfklubb
ORGANIZER;CN="Elverum Golfklubb":MAILTO:post@elverumgolf.no
END:VEVENT
BEGIN:VEVENT
DTSTART;VALUE=DATE:20240831
DTEND;VALUE=DATE:20240901
DTSTAMP:20260421T122828
CREATED:20240707T195921Z
LAST-MODIFIED:20240707T195921Z
UID:1558-1725062400-1725148799@elverumgolf.no
SUMMARY:Spleiselaget Open 2024
DESCRIPTION:Spleiselaget Open 2024 \nPåmelding her
URL:https://elverumgolf.no/event/spleiselaget-open-2024/
LOCATION:Elverum Golfklubb
ORGANIZER;CN="Elverum Golfklubb":MAILTO:post@elverumgolf.no
END:VEVENT
END:VCALENDAR