BEGIN:VCALENDAR
VERSION:2.0
PRODID:-//Elverum golfklubb - ECPv6.15.20//NONSGML v1.0//EN
CALSCALE:GREGORIAN
METHOD:PUBLISH
X-WR-CALNAME:Elverum golfklubb
X-ORIGINAL-URL:https://elverumgolf.no
X-WR-CALDESC:Arrangement for Elverum golfklubb
REFRESH-INTERVAL;VALUE=DURATION:PT1H
X-Robots-Tag:noindex
X-PUBLISHED-TTL:PT1H
BEGIN:VTIMEZONE
TZID:Europe/Oslo
BEGIN:DAYLIGHT
TZOFFSETFROM:+0100
TZOFFSETTO:+0200
TZNAME:CEST
DTSTART:20230326T010000
END:DAYLIGHT
BEGIN:STANDARD
TZOFFSETFROM:+0200
TZOFFSETTO:+0100
TZNAME:CET
DTSTART:20231029T010000
END:STANDARD
BEGIN:DAYLIGHT
TZOFFSETFROM:+0100
TZOFFSETTO:+0200
TZNAME:CEST
DTSTART:20240331T010000
END:DAYLIGHT
BEGIN:STANDARD
TZOFFSETFROM:+0200
TZOFFSETTO:+0100
TZNAME:CET
DTSTART:20241027T010000
END:STANDARD
BEGIN:DAYLIGHT
TZOFFSETFROM:+0100
TZOFFSETTO:+0200
TZNAME:CEST
DTSTART:20250330T010000
END:DAYLIGHT
BEGIN:STANDARD
TZOFFSETFROM:+0200
TZOFFSETTO:+0100
TZNAME:CET
DTSTART:20251026T010000
END:STANDARD
END:VTIMEZONE
BEGIN:VEVENT
DTSTART;VALUE=DATE:20240601
DTEND;VALUE=DATE:20240602
DTSTAMP:20260421T145836
CREATED:20231120T103707Z
LAST-MODIFIED:20231120T103707Z
UID:1123-1717200000-1717286399@elverumgolf.no
SUMMARY:Konfirmasjon
DESCRIPTION:
URL:https://elverumgolf.no/event/konfirmasjon-2/
LOCATION:Starmoen\, Starmoveien 83\, Elverum\, 2414\, Norge
ORGANIZER;CN="Elverum Golfklubb":MAILTO:post@elverumgolf.no
END:VEVENT
BEGIN:VEVENT
DTSTART;TZID=Europe/Oslo:20240604T100000
DTEND;TZID=Europe/Oslo:20240604T123000
DTSTAMP:20260421T145836
CREATED:20240527T123534Z
LAST-MODIFIED:20240527T132208Z
UID:1450-1717495200-1717504200@elverumgolf.no
SUMMARY:Frydenlund skole 5. trinn
DESCRIPTION:
URL:https://elverumgolf.no/event/frydenlund-skole-5-trinn/
LOCATION:Elverum Golfklubb
ORGANIZER;CN="Elverum Golfklubb":MAILTO:post@elverumgolf.no
END:VEVENT
BEGIN:VEVENT
DTSTART;TZID=Europe/Oslo:20240605T183000
DTEND;TZID=Europe/Oslo:20240605T200000
DTSTAMP:20260421T145836
CREATED:20240521T074621Z
LAST-MODIFIED:20240521T074715Z
UID:1434-1717612200-1717617600@elverumgolf.no
SUMMARY:Trim & Trøkk minigolf
DESCRIPTION:10-15 personer minigolf 18:30
URL:https://elverumgolf.no/event/trim-trokk-minigolf/
END:VEVENT
BEGIN:VEVENT
DTSTART;TZID=Europe/Oslo:20240606T100000
DTEND;TZID=Europe/Oslo:20240606T130000
DTSTAMP:20260421T145836
CREATED:20240527T123428Z
LAST-MODIFIED:20240527T123428Z
UID:1448-1717668000-1717678800@elverumgolf.no
SUMMARY:Skoleklasse
DESCRIPTION:
URL:https://elverumgolf.no/event/skoleklasse/
LOCATION:Elverum Golfklubb
ORGANIZER;CN="Elverum Golfklubb":MAILTO:post@elverumgolf.no
END:VEVENT
BEGIN:VEVENT
DTSTART;VALUE=DATE:20240607
DTEND;VALUE=DATE:20240608
DTSTAMP:20260421T145836
CREATED:20240417T115743Z
LAST-MODIFIED:20240417T115743Z
UID:1306-1717718400-1717804799@elverumgolf.no
SUMMARY:Vestad skole sommerfest
DESCRIPTION:Leie av 2. etasje
URL:https://elverumgolf.no/event/vestad-skole-sommerfest/
LOCATION:Elverum Golfklubb
ORGANIZER;CN="Elverum Golfklubb":MAILTO:post@elverumgolf.no
END:VEVENT
BEGIN:VEVENT
DTSTART;VALUE=DATE:20240608
DTEND;VALUE=DATE:20240609
DTSTAMP:20260421T145836
CREATED:20240330T085328Z
LAST-MODIFIED:20240330T085328Z
UID:1289-1717804800-1717891199@elverumgolf.no
SUMMARY:Turnering Damegruppen
DESCRIPTION:Scrambleturnering med sosial aktivitet i 2. etasjen
URL:https://elverumgolf.no/event/turnering-damegruppen/
LOCATION:Elverum Golfklubb
ORGANIZER;CN="Elverum Golfklubb":MAILTO:post@elverumgolf.no
END:VEVENT
BEGIN:VEVENT
DTSTART;VALUE=DATE:20240608
DTEND;VALUE=DATE:20240609
DTSTAMP:20260421T145836
CREATED:20240422T143722Z
LAST-MODIFIED:20240422T143722Z
UID:1308-1717804800-1717891199@elverumgolf.no
SUMMARY:Dameturnering
DESCRIPTION:Elverum Golfklubb ønsker alle damene velkommen til sosiale dameturnering med hyggelig atmosfære. \nLørdag 08.juni. \nStart kl.11 \nSpilleform 2 manns scramble\, stableford med intervallstart. \nPåmelding i Golfbox 😊 \n  \nEtter turneringen blir det sosialt mimring\, mat og premieutdeling på klubbhuset fra kl. 18:00
URL:https://elverumgolf.no/event/dameturnering/
LOCATION:Elverum Golfklubb
END:VEVENT
BEGIN:VEVENT
DTSTART;TZID=Europe/Oslo:20240608T090000
DTEND;TZID=Europe/Oslo:20240609T140000
DTSTAMP:20260421T145836
CREATED:20240315T084328Z
LAST-MODIFIED:20240315T084328Z
UID:1189-1717837200-1717941600@elverumgolf.no
SUMMARY:VTG kurs 3
DESCRIPTION:Veien til golf kurs sesongen 2024\n11 – 12 mai VTG 1\n25 – 26 mai VTG 2\n8 – 9  juni VTG 3 \nVeien til golf er et obligatorisk kurs for alle som ønsker å begynne med golf.\nVåre kurs går over 2 dager fra kl 09:00 – 14:00 begge dager.\nKurset er i all hovedsak et praktisk kurs\, med det vil forekomme noe teori og opplæring i\ndet elektroniske medlemsregisteret golfbox. \nEtter endt kurs vil det bli tilrettelagt for fadder runder på banen. \nVi tar for oss det grunnleggende i slagteknikk og lærer oss uttrykket GOBBS\nG: Grep\nO: Oppstilling\nB: Ballplassering\nB: Balanse\nS: Sikte\nAlt det vi kan få kontroll på før vi slår ballen.
URL:https://elverumgolf.no/event/vtg-kurs-3/
LOCATION:Elverum Golfklubb
ORGANIZER;CN="Elverum Golfklubb":MAILTO:post@elverumgolf.no
END:VEVENT
BEGIN:VEVENT
DTSTART;TZID=Europe/Oslo:20240611T173000
DTEND;TZID=Europe/Oslo:20240611T193000
DTSTAMP:20260421T145836
CREATED:20240527T123327Z
LAST-MODIFIED:20240527T123327Z
UID:1446-1718127000-1718134200@elverumgolf.no
SUMMARY:Barnebursdag minigolf 17:30-19:30
DESCRIPTION:
URL:https://elverumgolf.no/event/barnebursdag-minigolf-1730-1930/
LOCATION:Elverum Golfklubb
ORGANIZER;CN="Elverum Golfklubb":MAILTO:post@elverumgolf.no
END:VEVENT
BEGIN:VEVENT
DTSTART;VALUE=DATE:20240616
DTEND;VALUE=DATE:20240617
DTSTAMP:20260421T145836
CREATED:20240325T095729Z
LAST-MODIFIED:20240325T095729Z
UID:1233-1718496000-1718582399@elverumgolf.no
SUMMARY:Selskapsaktivitet
DESCRIPTION:Selskap for 25-30 personer denne dagen i 2. etasjen.
URL:https://elverumgolf.no/event/selskapsaktivitet/
LOCATION:Elverum Golfklubb
ORGANIZER;CN="Elverum Golfklubb":MAILTO:post@elverumgolf.no
END:VEVENT
BEGIN:VEVENT
DTSTART;TZID=Europe/Oslo:20240617T080000
DTEND;TZID=Europe/Oslo:20240619T170000
DTSTAMP:20260421T145836
CREATED:20240326T125407Z
LAST-MODIFIED:20240326T125407Z
UID:1271-1718611200-1718816400@elverumgolf.no
SUMMARY:Trener 1 utdanning
DESCRIPTION:2 etg. i bruk
URL:https://elverumgolf.no/event/trener-1-utdanning/
LOCATION:Elverum Golfklubb
ORGANIZER;CN="Elverum Golfklubb":MAILTO:post@elverumgolf.no
END:VEVENT
BEGIN:VEVENT
DTSTART;TZID=Europe/Oslo:20240620T170000
DTEND;TZID=Europe/Oslo:20240620T190000
DTSTAMP:20260421T145836
CREATED:20240605T075509Z
LAST-MODIFIED:20240605T075509Z
UID:1465-1718902800-1718910000@elverumgolf.no
SUMMARY:Bursdag minigolf
DESCRIPTION:i grillhjørnet 20. juni for ca 15 barn fra kl 17-19.
URL:https://elverumgolf.no/event/bursdag-minigolf/
LOCATION:Elverum Golfklubb
ORGANIZER;CN="Elverum Golfklubb":MAILTO:post@elverumgolf.no
END:VEVENT
BEGIN:VEVENT
DTSTART;TZID=Europe/Oslo:20240621T080000
DTEND;TZID=Europe/Oslo:20240623T170000
DTSTAMP:20260421T145836
CREATED:20240326T125154Z
LAST-MODIFIED:20240326T125154Z
UID:1267-1718956800-1719162000@elverumgolf.no
SUMMARY:Trener 2 utdanning
DESCRIPTION:NGFs treneropplæring på Elverum Golfklubb \n2 etg. i bruk
URL:https://elverumgolf.no/event/trener-2-utdanning-2/
LOCATION:Elverum Golfklubb
ORGANIZER;CN="Elverum Golfklubb":MAILTO:post@elverumgolf.no
END:VEVENT
BEGIN:VEVENT
DTSTART;TZID=Europe/Oslo:20240625T140000
DTEND;TZID=Europe/Oslo:20240625T180000
DTSTAMP:20260421T145836
CREATED:20240620T123925Z
LAST-MODIFIED:20240620T123925Z
UID:1491-1719324000-1719338400@elverumgolf.no
SUMMARY:Cobra Demodag
DESCRIPTION:
URL:https://elverumgolf.no/event/cobra-demodag/
LOCATION:Elverum Golfklubb
END:VEVENT
BEGIN:VEVENT
DTSTART;TZID=Europe/Oslo:20240626T180000
DTEND;TZID=Europe/Oslo:20240626T200000
DTSTAMP:20260421T145836
CREATED:20240325T101927Z
LAST-MODIFIED:20240626T082616Z
UID:1241-1719424800-1719432000@elverumgolf.no
SUMMARY:Styremøte
DESCRIPTION:
URL:https://elverumgolf.no/event/styremote-11/
LOCATION:Elverum Golfklubb
END:VEVENT
BEGIN:VEVENT
DTSTART;TZID=Europe/Oslo:20240626T180000
DTEND;TZID=Europe/Oslo:20240626T210000
DTSTAMP:20260421T145836
CREATED:20240613T140649Z
LAST-MODIFIED:20240613T140819Z
UID:1477-1719424800-1719435600@elverumgolf.no
SUMMARY:Onsdagsscramble
DESCRIPTION:Påmelding her
URL:https://elverumgolf.no/event/onsdagsscramble-8/
LOCATION:Elverum Golfklubb
ORGANIZER;CN="Elverum Golfklubb":MAILTO:post@elverumgolf.no
END:VEVENT
BEGIN:VEVENT
DTSTART;TZID=Europe/Oslo:20240627T100000
DTEND;TZID=Europe/Oslo:20240627T120000
DTSTAMP:20260421T145836
CREATED:20240620T124050Z
LAST-MODIFIED:20240620T124050Z
UID:1495-1719482400-1719489600@elverumgolf.no
SUMMARY:Forsvarsmateriel skillgamez
DESCRIPTION:
URL:https://elverumgolf.no/event/forsvarsmateriel-skillgamez/
LOCATION:Elverum Golfklubb
END:VEVENT
BEGIN:VEVENT
DTSTART;TZID=Europe/Oslo:20240627T140000
DTEND;TZID=Europe/Oslo:20240627T180000
DTSTAMP:20260421T145836
CREATED:20240620T124009Z
LAST-MODIFIED:20240620T124009Z
UID:1493-1719496800-1719511200@elverumgolf.no
SUMMARY:Taylor Made Demodag
DESCRIPTION:
URL:https://elverumgolf.no/event/taylor-made-demodag/
LOCATION:Elverum Golfklubb
END:VEVENT
BEGIN:VEVENT
DTSTART;TZID=Europe/Oslo:20240627T173000
DTEND;TZID=Europe/Oslo:20240627T193000
DTSTAMP:20260421T145836
CREATED:20240531T115009Z
LAST-MODIFIED:20240531T115009Z
UID:1455-1719509400-1719516600@elverumgolf.no
SUMMARY:SB1 Forretningspartner
DESCRIPTION:skillgamez og minigolf 17:30 – 19:30 8-10 pers
URL:https://elverumgolf.no/event/sb1-forretningspartner/
LOCATION:Elverum Golfklubb
ORGANIZER;CN="Elverum Golfklubb":MAILTO:post@elverumgolf.no
END:VEVENT
BEGIN:VEVENT
DTSTART;VALUE=DATE:20240629
DTEND;VALUE=DATE:20240630
DTSTAMP:20260421T145836
CREATED:20240613T135642Z
LAST-MODIFIED:20240613T135642Z
UID:1473-1719619200-1719705599@elverumgolf.no
SUMMARY:Elverum maraton
DESCRIPTION:Meld deg på via linken under. \nPåmelding her
URL:https://elverumgolf.no/event/elverum-maraton/
LOCATION:Elverum Golfklubb
ORGANIZER;CN="Elverum Golfklubb":MAILTO:post@elverumgolf.no
END:VEVENT
BEGIN:VEVENT
DTSTART;TZID=Europe/Oslo:20240630T080000
DTEND;TZID=Europe/Oslo:20240630T170000
DTSTAMP:20260421T145836
CREATED:20240613T141142Z
LAST-MODIFIED:20240613T141142Z
UID:1479-1719734400-1719766800@elverumgolf.no
SUMMARY:Italian Tour 2024
DESCRIPTION:Påmelding her
URL:https://elverumgolf.no/event/italian-tour-2024/
LOCATION:Elverum Golfklubb
END:VEVENT
END:VCALENDAR