BEGIN:VCALENDAR
VERSION:2.0
PRODID:-//Elverum golfklubb - ECPv6.15.20//NONSGML v1.0//EN
CALSCALE:GREGORIAN
METHOD:PUBLISH
X-ORIGINAL-URL:https://elverumgolf.no
X-WR-CALDESC:Arrangement for Elverum golfklubb
REFRESH-INTERVAL;VALUE=DURATION:PT1H
X-Robots-Tag:noindex
X-PUBLISHED-TTL:PT1H
BEGIN:VTIMEZONE
TZID:Europe/Oslo
BEGIN:DAYLIGHT
TZOFFSETFROM:+0100
TZOFFSETTO:+0200
TZNAME:CEST
DTSTART:20230326T010000
END:DAYLIGHT
BEGIN:STANDARD
TZOFFSETFROM:+0200
TZOFFSETTO:+0100
TZNAME:CET
DTSTART:20231029T010000
END:STANDARD
BEGIN:DAYLIGHT
TZOFFSETFROM:+0100
TZOFFSETTO:+0200
TZNAME:CEST
DTSTART:20240331T010000
END:DAYLIGHT
BEGIN:STANDARD
TZOFFSETFROM:+0200
TZOFFSETTO:+0100
TZNAME:CET
DTSTART:20241027T010000
END:STANDARD
BEGIN:DAYLIGHT
TZOFFSETFROM:+0100
TZOFFSETTO:+0200
TZNAME:CEST
DTSTART:20250330T010000
END:DAYLIGHT
BEGIN:STANDARD
TZOFFSETFROM:+0200
TZOFFSETTO:+0100
TZNAME:CET
DTSTART:20251026T010000
END:STANDARD
END:VTIMEZONE
BEGIN:VEVENT
DTSTART;TZID=Europe/Oslo:20240510T080000
DTEND;TZID=Europe/Oslo:20240511T190000
DTSTAMP:20260421T162126
CREATED:20240409T080347Z
LAST-MODIFIED:20240409T080347Z
UID:1296-1715328000-1715454000@elverumgolf.no
SUMMARY:Konfirmasjon
DESCRIPTION:10-11 mai
URL:https://elverumgolf.no/event/konfirmasjon-3/
LOCATION:Elverum Golfklubb
ORGANIZER;CN="Elverum Golfklubb":MAILTO:post@elverumgolf.no
END:VEVENT
BEGIN:VEVENT
DTSTART;TZID=Europe/Oslo:20240511T090000
DTEND;TZID=Europe/Oslo:20240512T140000
DTSTAMP:20260421T162126
CREATED:20240315T084024Z
LAST-MODIFIED:20240315T084024Z
UID:1185-1715418000-1715522400@elverumgolf.no
SUMMARY:VTG kurs 1
DESCRIPTION:Veien til golf kurs sesongen 2024\n11 – 12 mai VTG 1\n25 – 26 mai VTG 2\n8 – 9  juni VTG 3 \nVeien til golf er et obligatorisk kurs for alle som ønsker å begynne med golf.\nVåre kurs går over 2 dager fra kl 09:00 – 14:00 begge dager.\nKurset er i all hovedsak et praktisk kurs\, med det vil forekomme noe teori og opplæring i\ndet elektroniske medlemsregisteret golfbox. \nEtter endt kurs vil det bli tilrettelagt for fadder runder på banen. \nVi tar for oss det grunnleggende i slagteknikk og lærer oss uttrykket GOBBS\nG: Grep\nO: Oppstilling\nB: Ballplassering\nB: Balanse\nS: Sikte\nAlt det vi kan få kontroll på før vi slår ballen.
URL:https://elverumgolf.no/event/vtg-kurs-1/
LOCATION:Elverum Golfklubb
ORGANIZER;CN="Elverum Golfklubb":MAILTO:post@elverumgolf.no
END:VEVENT
BEGIN:VEVENT
DTSTART;TZID=Europe/Oslo:20240514T170000
DTEND;TZID=Europe/Oslo:20240514T170000
DTSTAMP:20260421T162126
CREATED:20240422T144153Z
LAST-MODIFIED:20240422T144153Z
UID:1310-1715706000-1715706000@elverumgolf.no
SUMMARY:Dame scramble
DESCRIPTION:Scramble turnering med premieutdeling og kaffe etter scramble på terrassen 🙂 \nTomannslag\, stableford. \nHar du ikke lag\, setter vi deg sammen med en annen  spiller.
URL:https://elverumgolf.no/event/dame-scramble/
END:VEVENT
BEGIN:VEVENT
DTSTART;TZID=Europe/Oslo:20240515T170000
DTEND;TZID=Europe/Oslo:20240515T190000
DTSTAMP:20260421T162126
CREATED:20240325T101842Z
LAST-MODIFIED:20240325T101842Z
UID:1239-1715792400-1715799600@elverumgolf.no
SUMMARY:Styremøte
DESCRIPTION:
URL:https://elverumgolf.no/event/styremote-10/
LOCATION:Elverum Golfklubb
END:VEVENT
BEGIN:VEVENT
DTSTART;VALUE=DATE:20240520
DTEND;VALUE=DATE:20240521
DTSTAMP:20260421T162126
CREATED:20240519T171623Z
LAST-MODIFIED:20240519T171642Z
UID:1410-1716163200-1716249599@elverumgolf.no
SUMMARY:Flaggturnering
DESCRIPTION:
URL:https://elverumgolf.no/event/flaggturnering/
LOCATION:Elverum Golfklubb
END:VEVENT
BEGIN:VEVENT
DTSTART;TZID=Europe/Oslo:20240522T173000
DTEND;TZID=Europe/Oslo:20240522T183000
DTSTAMP:20260421T162126
CREATED:20240522T190617Z
LAST-MODIFIED:20240522T190617Z
UID:1439-1716399000-1716402600@elverumgolf.no
SUMMARY:Knøttegolf
DESCRIPTION:
URL:https://elverumgolf.no/event/knottegolf-2/
LOCATION:Elverum Golfklubb
END:VEVENT
BEGIN:VEVENT
DTSTART;TZID=Europe/Oslo:20240523T100000
DTEND;TZID=Europe/Oslo:20240523T140000
DTSTAMP:20260421T162126
CREATED:20240519T171927Z
LAST-MODIFIED:20240519T171927Z
UID:1414-1716458400-1716472800@elverumgolf.no
SUMMARY:Torsdagsgolfen
DESCRIPTION:
URL:https://elverumgolf.no/event/torsdagsgolfen-3/
LOCATION:Elverum Golfklubb
END:VEVENT
BEGIN:VEVENT
DTSTART;VALUE=DATE:20240525
DTEND;VALUE=DATE:20240526
DTSTAMP:20260421T162126
CREATED:20230606T070948Z
LAST-MODIFIED:20230606T070948Z
UID:777-1716595200-1716681599@elverumgolf.no
SUMMARY:Konfirmasjon 2. etasje
DESCRIPTION:
URL:https://elverumgolf.no/event/konfirmasjon-2-etasje/
LOCATION:Starmoen\, Starmoveien 83\, Elverum\, 2414\, Norge
ORGANIZER;CN="Elverum Golfklubb":MAILTO:post@elverumgolf.no
END:VEVENT
BEGIN:VEVENT
DTSTART;VALUE=DATE:20240525
DTEND;VALUE=DATE:20240526
DTSTAMP:20260421T162126
CREATED:20231027T141913Z
LAST-MODIFIED:20231027T141913Z
UID:1104-1716595200-1716681599@elverumgolf.no
SUMMARY:Konfirmasjon
DESCRIPTION:
URL:https://elverumgolf.no/event/konfirmasjon/
LOCATION:Elverum Golfklubb
ORGANIZER;CN="Elverum Golfklubb":MAILTO:post@elverumgolf.no
END:VEVENT
BEGIN:VEVENT
DTSTART;TZID=Europe/Oslo:20240525T090000
DTEND;TZID=Europe/Oslo:20240526T140000
DTSTAMP:20260421T162126
CREATED:20240315T084208Z
LAST-MODIFIED:20240315T084208Z
UID:1187-1716627600-1716732000@elverumgolf.no
SUMMARY:VTG kurs 2
DESCRIPTION:Veien til golf kurs sesongen 2024\n11 – 12 mai VTG 1\n25 – 26 mai VTG 2\n8 – 9  juni VTG 3 \nVeien til golf er et obligatorisk kurs for alle som ønsker å begynne med golf.\nVåre kurs går over 2 dager fra kl 09:00 – 14:00 begge dager.\nKurset er i all hovedsak et praktisk kurs\, med det vil forekomme noe teori og opplæring i\ndet elektroniske medlemsregisteret golfbox. \nEtter endt kurs vil det bli tilrettelagt for fadder runder på banen. \nVi tar for oss det grunnleggende i slagteknikk og lærer oss uttrykket GOBBS\nG: Grep\nO: Oppstilling\nB: Ballplassering\nB: Balanse\nS: Sikte\nAlt det vi kan få kontroll på før vi slår ballen.
URL:https://elverumgolf.no/event/vtg-kurs-2/
LOCATION:Elverum Golfklubb
ORGANIZER;CN="Elverum Golfklubb":MAILTO:post@elverumgolf.no
END:VEVENT
BEGIN:VEVENT
DTSTART;VALUE=DATE:20240526
DTEND;VALUE=DATE:20240527
DTSTAMP:20260421T162126
CREATED:20240519T171737Z
LAST-MODIFIED:20240519T171737Z
UID:1412-1716681600-1716767999@elverumgolf.no
SUMMARY:Minibaggen
DESCRIPTION:
URL:https://elverumgolf.no/event/minibaggen/
LOCATION:Elverum Golfklubb
END:VEVENT
BEGIN:VEVENT
DTSTART;TZID=Europe/Oslo:20240527T080000
DTEND;TZID=Europe/Oslo:20240527T080000
DTSTAMP:20260421T162126
CREATED:20240519T172224Z
LAST-MODIFIED:20240519T172224Z
UID:1418-1716796800-1716796800@elverumgolf.no
SUMMARY:Start KM Matchplay damer
DESCRIPTION:
URL:https://elverumgolf.no/event/start-km-matchplay-damer/
LOCATION:Elverum Golfklubb
END:VEVENT
BEGIN:VEVENT
DTSTART;TZID=Europe/Oslo:20240527T080000
DTEND;TZID=Europe/Oslo:20240527T083000
DTSTAMP:20260421T162126
CREATED:20240519T172350Z
LAST-MODIFIED:20240519T172350Z
UID:1420-1716796800-1716798600@elverumgolf.no
SUMMARY:KM Matchplay Herrer
DESCRIPTION:
URL:https://elverumgolf.no/event/km-matchplay-herrer/
LOCATION:Elverum Golfklubb
END:VEVENT
BEGIN:VEVENT
DTSTART;TZID=Europe/Oslo:20240528T160000
DTEND;TZID=Europe/Oslo:20240528T170000
DTSTAMP:20260421T162126
CREATED:20240519T172600Z
LAST-MODIFIED:20240519T172600Z
UID:1422-1716912000-1716915600@elverumgolf.no
SUMMARY:Lag NM kval damer og herrer runde 1
DESCRIPTION:
URL:https://elverumgolf.no/event/lag-nm-kval-damer-og-herrer-runde-1/
LOCATION:Elverum Golfklubb
END:VEVENT
BEGIN:VEVENT
DTSTART;TZID=Europe/Oslo:20240529T173000
DTEND;TZID=Europe/Oslo:20240529T210000
DTSTAMP:20260421T162126
CREATED:20240519T172040Z
LAST-MODIFIED:20240519T172040Z
UID:1416-1717003800-1717016400@elverumgolf.no
SUMMARY:Onsdagsscramble
DESCRIPTION:
URL:https://elverumgolf.no/event/onsdagsscramble-7/
LOCATION:Elverum Golfklubb
END:VEVENT
BEGIN:VEVENT
DTSTART;TZID=Europe/Oslo:20240530T100000
DTEND;TZID=Europe/Oslo:20240530T100000
DTSTAMP:20260421T162126
CREATED:20240519T172818Z
LAST-MODIFIED:20240519T172818Z
UID:1424-1717063200-1717063200@elverumgolf.no
SUMMARY:Torsdagsgolfen individuell turnering
DESCRIPTION:
URL:https://elverumgolf.no/event/torsdagsgolfen-individuell-turnering/
LOCATION:Elverum Golfklubb
END:VEVENT
BEGIN:VEVENT
DTSTART;TZID=Europe/Oslo:20240530T170000
DTEND;TZID=Europe/Oslo:20240530T200000
DTSTAMP:20260421T162126
CREATED:20240515T133305Z
LAST-MODIFIED:20240515T133305Z
UID:1399-1717088400-1717099200@elverumgolf.no
SUMMARY:Klubben\, sommerfest
DESCRIPTION:Skillgamez\, minigolf og grilling start kl 17:00
URL:https://elverumgolf.no/event/klubben-sommerfest/
LOCATION:Elverum Golfklubb
ORGANIZER;CN="Elverum Golfklubb":MAILTO:post@elverumgolf.no
END:VEVENT
END:VCALENDAR