BEGIN:VCALENDAR
VERSION:2.0
PRODID:-//Elverum golfklubb - ECPv6.15.20//NONSGML v1.0//EN
CALSCALE:GREGORIAN
METHOD:PUBLISH
X-WR-CALNAME:Elverum golfklubb
X-ORIGINAL-URL:https://elverumgolf.no
X-WR-CALDESC:Arrangement for Elverum golfklubb
REFRESH-INTERVAL;VALUE=DURATION:PT1H
X-Robots-Tag:noindex
X-PUBLISHED-TTL:PT1H
BEGIN:VTIMEZONE
TZID:Europe/Oslo
BEGIN:DAYLIGHT
TZOFFSETFROM:+0100
TZOFFSETTO:+0200
TZNAME:CEST
DTSTART:20230326T010000
END:DAYLIGHT
BEGIN:STANDARD
TZOFFSETFROM:+0200
TZOFFSETTO:+0100
TZNAME:CET
DTSTART:20231029T010000
END:STANDARD
BEGIN:DAYLIGHT
TZOFFSETFROM:+0100
TZOFFSETTO:+0200
TZNAME:CEST
DTSTART:20240331T010000
END:DAYLIGHT
BEGIN:STANDARD
TZOFFSETFROM:+0200
TZOFFSETTO:+0100
TZNAME:CET
DTSTART:20241027T010000
END:STANDARD
BEGIN:DAYLIGHT
TZOFFSETFROM:+0100
TZOFFSETTO:+0200
TZNAME:CEST
DTSTART:20250330T010000
END:DAYLIGHT
BEGIN:STANDARD
TZOFFSETFROM:+0200
TZOFFSETTO:+0100
TZNAME:CET
DTSTART:20251026T010000
END:STANDARD
END:VTIMEZONE
BEGIN:VEVENT
DTSTART;VALUE=DATE:20240413
DTEND;VALUE=DATE:20240414
DTSTAMP:20260421T174403
CREATED:20240315T084853Z
LAST-MODIFIED:20240315T084853Z
UID:1191-1712966400-1713052799@elverumgolf.no
SUMMARY:Bursdagsfest Sivert
DESCRIPTION:2. etasje blir brukt til sosialt arrangement.
URL:https://elverumgolf.no/event/bursdagsfest-sivert/
LOCATION:Elverum Golfklubb
ORGANIZER;CN="Elverum Golfklubb":MAILTO:post@elverumgolf.no
END:VEVENT
BEGIN:VEVENT
DTSTART;TZID=Europe/Oslo:20240417T170000
DTEND;TZID=Europe/Oslo:20240417T190000
DTSTAMP:20260421T174403
CREATED:20240325T101758Z
LAST-MODIFIED:20240325T101758Z
UID:1235-1713373200-1713380400@elverumgolf.no
SUMMARY:Styremøte
DESCRIPTION:
URL:https://elverumgolf.no/event/styremote-9/
LOCATION:Østli\, Torolf Storsveens veg 12\, Elverum
END:VEVENT
BEGIN:VEVENT
DTSTART;TZID=Europe/Oslo:20240426T080000
DTEND;TZID=Europe/Oslo:20240428T170000
DTSTAMP:20260421T174403
CREATED:20240326T124926Z
LAST-MODIFIED:20240326T124926Z
UID:1265-1714118400-1714323600@elverumgolf.no
SUMMARY:Trener 2 utdanning
DESCRIPTION:NGFs treneropplæring på Elverum Golfklubb
URL:https://elverumgolf.no/event/trener-2-utdanning/
LOCATION:Elverum Golfklubb
ORGANIZER;CN="Elverum Golfklubb":MAILTO:post@elverumgolf.no
END:VEVENT
END:VCALENDAR