BEGIN:VCALENDAR
VERSION:2.0
PRODID:-//Elverum golfklubb - ECPv6.15.20//NONSGML v1.0//EN
CALSCALE:GREGORIAN
METHOD:PUBLISH
X-WR-CALNAME:Elverum golfklubb
X-ORIGINAL-URL:https://elverumgolf.no
X-WR-CALDESC:Arrangement for Elverum golfklubb
REFRESH-INTERVAL;VALUE=DURATION:PT1H
X-Robots-Tag:noindex
X-PUBLISHED-TTL:PT1H
BEGIN:VTIMEZONE
TZID:Europe/Oslo
BEGIN:DAYLIGHT
TZOFFSETFROM:+0100
TZOFFSETTO:+0200
TZNAME:CEST
DTSTART:20220327T010000
END:DAYLIGHT
BEGIN:STANDARD
TZOFFSETFROM:+0200
TZOFFSETTO:+0100
TZNAME:CET
DTSTART:20221030T010000
END:STANDARD
BEGIN:DAYLIGHT
TZOFFSETFROM:+0100
TZOFFSETTO:+0200
TZNAME:CEST
DTSTART:20230326T010000
END:DAYLIGHT
BEGIN:STANDARD
TZOFFSETFROM:+0200
TZOFFSETTO:+0100
TZNAME:CET
DTSTART:20231029T010000
END:STANDARD
BEGIN:DAYLIGHT
TZOFFSETFROM:+0100
TZOFFSETTO:+0200
TZNAME:CEST
DTSTART:20240331T010000
END:DAYLIGHT
BEGIN:STANDARD
TZOFFSETFROM:+0200
TZOFFSETTO:+0100
TZNAME:CET
DTSTART:20241027T010000
END:STANDARD
END:VTIMEZONE
BEGIN:VEVENT
DTSTART;TZID=Europe/Oslo:20231101T170000
DTEND;TZID=Europe/Oslo:20231101T190000
DTSTAMP:20260422T004705
CREATED:20231008T120812Z
LAST-MODIFIED:20231008T120812Z
UID:1075-1698858000-1698865200@elverumgolf.no
SUMMARY:Evalueringsmøte treningsgruppa
DESCRIPTION:
URL:https://elverumgolf.no/event/evalueringsmote-treningsgruppa/
LOCATION:Elverum Golfklubb
END:VEVENT
END:VCALENDAR